BEGIN:VCALENDAR
VERSION:2.0
PRODID:-//FASA - ECPv5.16.3.1//NONSGML v1.0//EN
CALSCALE:GREGORIAN
METHOD:PUBLISH
X-ORIGINAL-URL:https://fasa.nyc
X-WR-CALDESC:Events for FASA
REFRESH-INTERVAL;VALUE=DURATION:PT1H
X-Robots-Tag:noindex
X-PUBLISHED-TTL:PT1H
BEGIN:VTIMEZONE
TZID:America/Los_Angeles
BEGIN:DAYLIGHT
TZOFFSETFROM:-0800
TZOFFSETTO:-0700
TZNAME:PDT
DTSTART:20160313T100000
END:DAYLIGHT
BEGIN:STANDARD
TZOFFSETFROM:-0700
TZOFFSETTO:-0800
TZNAME:PST
DTSTART:20161106T090000
END:STANDARD
END:VTIMEZONE
BEGIN:VEVENT
DTSTART;VALUE=DATE:20160215
DTEND;VALUE=DATE:20160218
DTSTAMP:20260421T224934
CREATED:20160105T150147Z
LAST-MODIFIED:20160105T150147Z
UID:4204-1455494400-1455753599@fasa.nyc
SUMMARY:Capsule
DESCRIPTION:
URL:https://fasa.nyc/event/capsule-3/
LOCATION:The Venetian Ballroom\, 3355 S Las Vegas Blvd\, Las Vegas\, NV\, 89109\, United States
ORGANIZER;CN="Capsule":MAILTO:info[at]capsuleshow.com
END:VEVENT
END:VCALENDAR