BEGIN:VCALENDAR
VERSION:2.0
PRODID:-//FASA - ECPv5.16.3.1//NONSGML v1.0//EN
CALSCALE:GREGORIAN
METHOD:PUBLISH
X-ORIGINAL-URL:https://fasa.nyc
X-WR-CALDESC:Events for FASA
REFRESH-INTERVAL;VALUE=DURATION:PT1H
X-Robots-Tag:noindex
X-PUBLISHED-TTL:PT1H
BEGIN:VTIMEZONE
TZID:America/Chicago
BEGIN:DAYLIGHT
TZOFFSETFROM:-0600
TZOFFSETTO:-0500
TZNAME:CDT
DTSTART:20160313T080000
END:DAYLIGHT
BEGIN:STANDARD
TZOFFSETFROM:-0500
TZOFFSETTO:-0600
TZNAME:CST
DTSTART:20161106T070000
END:STANDARD
END:VTIMEZONE
BEGIN:VEVENT
DTSTART;VALUE=DATE:20160807
DTEND;VALUE=DATE:20160810
DTSTAMP:20260421T205421
CREATED:20160105T120041Z
LAST-MODIFIED:20160105T120041Z
UID:4175-1470528000-1470787199@fasa.nyc
SUMMARY:Style Max
DESCRIPTION:
URL:https://fasa.nyc/event/style-max-5/
LOCATION:Chicago Market Center\, 222 Merchandise Mart Plaza  Suite 470\, Chicago\, IL\, 60654\, United States
END:VEVENT
END:VCALENDAR